BEGIN:VCALENDAR
VERSION:2.0
PRODID:-//eventon.com NONSGML v1.0//EN
CALSCALE:GREGORIAN
METHOD:PUBLISH
BEGIN:VEVENT
UID:69e788e43c0a3
DTSTAMP:20260421T142540Z
DTSTART:20251220T180000Z
DTEND:20251220T200000Z
LOCATION:
SUMMARY:Recital de Clave Gira 44 aniversario - Bruselas (Bélgica)
DESCRIPTION:Yago Mahúgo\,  clave Gira 44 aniversario Church of St Clement\
 ,  Watermael-Boitsfort\nhttps://yagomahugo.com/events/concierto-44-aniversa
 rio-bruselas/
URL:https://yagomahugo.com/events/concierto-44-aniversario-bruselas/
END:VEVENT
END:VCALENDAR