BEGIN:VCALENDAR
VERSION:2.0
PRODID:-//eventon.com NONSGML v1.0//EN
CALSCALE:GREGORIAN
METHOD:PUBLISH
BEGIN:VEVENT
UID:69e7898962ab9
DTSTAMP:20260421T142825Z
DTSTART:20251219T183000Z
DTEND:20251219T200000Z
LOCATION:
SUMMARY:Recital de Clave Gira 44 aniversario - Basel (Suiza)
DESCRIPTION:Yago Mahúgo\,  clave Gira 44 aniversario Zum Hohen Dolder\,  B
 asel\nhttps://yagomahugo.com/events/concierto-44-aniversario-basel/
URL:https://yagomahugo.com/events/concierto-44-aniversario-basel/
END:VEVENT
END:VCALENDAR