BEGIN:VCALENDAR
VERSION:2.0
PRODID:-//eventon.com NONSGML v1.0//EN
CALSCALE:GREGORIAN
METHOD:PUBLISH
BEGIN:VEVENT
UID:69e789276ccce
DTSTAMP:20260421T142647Z
DTSTART:20251218T183000Z
DTEND:20251218T200000Z
LOCATION:
SUMMARY:Recital de Clave Gira 44 aniversario - Freiburg (Alemania)
DESCRIPTION:Yago Mahúgo\,  clave Gira 44 aniversario Schueler Werkstatt Fr
 eiburg im Breisgau\nhttps://yagomahugo.com/events/freiburg/
URL:https://yagomahugo.com/events/freiburg/
END:VEVENT
END:VCALENDAR