BEGIN:VCALENDAR
VERSION:2.0
PRODID:-//eventon.com NONSGML v1.0//EN
CALSCALE:GREGORIAN
METHOD:PUBLISH
BEGIN:VEVENT
UID:69e788e42ecdc
DTSTAMP:20260421T142540Z
DTSTART:20251130T210000Z
DTEND:20251130T233000Z
LOCATION:
SUMMARY:Recital de flauta y clave - Lüneburg (Alemania)
DESCRIPTION:Marta Femenía\,  flauta Yago Mahúgo\,  clave &nbsp; &nbsp;\nh
 ttps://yagomahugo.com/events/recital-de-flauta-y-clave-luneburg-alemania-co
 py/
URL:https://yagomahugo.com/events/recital-de-flauta-y-clave-luneburg-alemania-copy/
END:VEVENT
END:VCALENDAR