BEGIN:VCALENDAR
VERSION:2.0
PRODID:-//eventon.com NONSGML v1.0//EN
CALSCALE:GREGORIAN
METHOD:PUBLISH
BEGIN:VEVENT
UID:69e78956a3230
DTSTAMP:20260421T142734Z
DTSTART:20251129T210000Z
DTEND:20251129T233000Z
LOCATION:
SUMMARY:Recital de flauta y clave (Gira 44 aniversario)- Lüneburg (Alemania)
DESCRIPTION:Yago Mahúgo\,  clave Pädagogische Hochschule &nbsp;\nhttps://
 yagomahugo.com/events/recital-de-clave-44-aniversario-luneburg/
URL:https://yagomahugo.com/events/recital-de-clave-44-aniversario-luneburg/
END:VEVENT
END:VCALENDAR