BEGIN:VCALENDAR
VERSION:2.0
PRODID:-//eventon.com NONSGML v1.0//EN
CALSCALE:GREGORIAN
METHOD:PUBLISH
BEGIN:VEVENT
UID:69e788537e9c0
DTSTAMP:20260421T142315Z
DTSTART:20251011T000000Z
DTEND:20251011T023000Z
LOCATION:
SUMMARY:Recital de clave 44 aniversario - Bloomfield Hills \,  Michigan (USA)
DESCRIPTION:Yago Mahúgo\,  clave Private Concert - Schein's House\nhttps:/
 /yagomahugo.com/events/recital-de-clave-44-aniversario-bloomfield/
URL:https://yagomahugo.com/events/recital-de-clave-44-aniversario-bloomfield/
END:VEVENT
END:VCALENDAR