BEGIN:VCALENDAR
VERSION:2.0
PRODID:-//eventon.com NONSGML v1.0//EN
CALSCALE:GREGORIAN
METHOD:PUBLISH
BEGIN:VEVENT
UID:69e7895c5b17c
DTSTAMP:20260421T142740Z
DTSTART:20251012T190000Z
DTEND:20251012T203000Z
LOCATION:
SUMMARY:Recital de Clave Gira 44 aniversario - Kalamazoo\,  Michigan (USA)
DESCRIPTION:Yago Mahúgo\,  clave Early Music Michigan https://earlymusicmi
 chigan.org/harpsichord/\nhttps://yagomahugo.com/events/recital-de-clave-44-
 aniversario-kalamazoo/
URL:https://yagomahugo.com/events/recital-de-clave-44-aniversario-kalamazoo/
END:VEVENT
END:VCALENDAR