BEGIN:VCALENDAR
VERSION:2.0
PRODID:-//eventon.com NONSGML v1.0//EN
CALSCALE:GREGORIAN
METHOD:PUBLISH
BEGIN:VEVENT
UID:69e7899045b06
DTSTAMP:20260421T142832Z
DTSTART:20251004T223000Z
DTEND:20251005T023000Z
LOCATION:
SUMMARY:Conferencia - Concierto. El fandango de Antonio Soler. Congreso WEKA. - Portland\,  Oregon (USA)
DESCRIPTION:Conferencia concierto sobre el fandango de Antonio Soler. &nbsp
 ; https://www.wekaweb.org/historical-keyboards-review/ &nbsp;\nhttps://yago
 mahugo.com/events/conferencia-concierto-el-fandango-de-antonio-soler-congre
 so-weka-portland-oregon-usa/
URL:https://yagomahugo.com/events/conferencia-concierto-el-fandango-de-antonio-soler-congreso-weka-portland-oregon-usa/
END:VEVENT
END:VCALENDAR