BEGIN:VCALENDAR
VERSION:2.0
PRODID:-//eventon.com NONSGML v1.0//EN
CALSCALE:GREGORIAN
METHOD:PUBLISH
BEGIN:VEVENT
UID:69e788cf75289
DTSTAMP:20260421T142519Z
DTSTART:20251114T233000Z
DTEND:20251115T013000Z
LOCATION:
SUMMARY:Recital de Clave Gira 44 aniversario - Ciudad de México (México)
DESCRIPTION:Yago Mahúgo\,  clave\nhttps://yagomahugo.com/events/recital-de
 -clave-44-aniversario-ciudad-de-mexico-mexico/
URL:https://yagomahugo.com/events/recital-de-clave-44-aniversario-ciudad-de-mexico-mexico/
END:VEVENT
END:VCALENDAR