BEGIN:VCALENDAR
VERSION:2.0
PRODID:-//eventon.com NONSGML v1.0//EN
CALSCALE:GREGORIAN
METHOD:PUBLISH
BEGIN:VEVENT
UID:69e7895692b00
DTSTAMP:20260421T142734Z
DTSTART:20251210T183000Z
DTEND:20251210T200000Z
LOCATION:
SUMMARY:Concierto de Navidad 2025- Stuttgart (Alemania)
DESCRIPTION:Marta Femenía\,  Flauta Marc Engelhardt\,  Fagot Yago Mahúgo\
 ,  clave Obras de J.S Bach\,  J.D. Heinichen y A. Vivaldi &nbsp;\nhttps://y
 agomahugo.com/events/navidadstuttgart/
URL:https://yagomahugo.com/events/navidadstuttgart/
END:VEVENT
END:VCALENDAR