BEGIN:VCALENDAR
VERSION:2.0
PRODID:-//eventon.com NONSGML v1.0//EN
CALSCALE:GREGORIAN
METHOD:PUBLISH
BEGIN:VEVENT
UID:69e7884de65c8
DTSTAMP:20260421T142309Z
DTSTART:20250916T210000Z
DTEND:20250921T210000Z
LOCATION:
SUMMARY:Obertone Festival - Stams (Austria)
DESCRIPTION:Gira 44 Aniversario de Yago Mahúgo. 4 Conciertos de cámara ht
 tps://www.obertone.at/#/home\nhttps://yagomahugo.com/events/obertone-festiv
 al/
URL:https://yagomahugo.com/events/obertone-festival/
END:VEVENT
END:VCALENDAR