BEGIN:VCALENDAR
VERSION:2.0
PRODID:-//eventon.com NONSGML v1.0//EN
CALSCALE:GREGORIAN
METHOD:PUBLISH
BEGIN:VEVENT
UID:69e788da7746a
DTSTAMP:20260421T142530Z
DTSTART:20250611T170000Z
DTEND:20250611T190000Z
LOCATION:
SUMMARY:Presentación Gira 44 Aniversario - Madrid (España)
DESCRIPTION:Presentación de la gira 44 Aniversario de Yago Mahúgo\nhttps:
 //yagomahugo.com/events/presentacion-gira-44-aniversario/
URL:https://yagomahugo.com/events/presentacion-gira-44-aniversario/
END:VEVENT
END:VCALENDAR